BEGIN:VCALENDAR
VERSION:2.0
PRODID:-//California Triathlon - ECPv6.15.20//NONSGML v1.0//EN
CALSCALE:GREGORIAN
METHOD:PUBLISH
X-ORIGINAL-URL:https://www.californiatriathlon.org
X-WR-CALDESC:Events for California Triathlon
REFRESH-INTERVAL;VALUE=DURATION:PT1H
X-Robots-Tag:noindex
X-PUBLISHED-TTL:PT1H
BEGIN:VTIMEZONE
TZID:America/Los_Angeles
BEGIN:DAYLIGHT
TZOFFSETFROM:-0800
TZOFFSETTO:-0700
TZNAME:PDT
DTSTART:20220313T100000
END:DAYLIGHT
BEGIN:STANDARD
TZOFFSETFROM:-0700
TZOFFSETTO:-0800
TZNAME:PST
DTSTART:20221106T090000
END:STANDARD
BEGIN:DAYLIGHT
TZOFFSETFROM:-0800
TZOFFSETTO:-0700
TZNAME:PDT
DTSTART:20230312T100000
END:DAYLIGHT
BEGIN:STANDARD
TZOFFSETFROM:-0700
TZOFFSETTO:-0800
TZNAME:PST
DTSTART:20231105T090000
END:STANDARD
BEGIN:DAYLIGHT
TZOFFSETFROM:-0800
TZOFFSETTO:-0700
TZNAME:PDT
DTSTART:20240310T100000
END:DAYLIGHT
BEGIN:STANDARD
TZOFFSETFROM:-0700
TZOFFSETTO:-0800
TZNAME:PST
DTSTART:20241103T090000
END:STANDARD
END:VTIMEZONE
BEGIN:VEVENT
DTSTART;TZID=America/Los_Angeles:20230618T080000
DTEND;TZID=America/Los_Angeles:20230618T130000
DTSTAMP:20260423T123307
CREATED:20220816T041610Z
LAST-MODIFIED:20250423T124401Z
UID:10000072-1687075200-1687093200@www.californiatriathlon.org
SUMMARY:2023 Cal Tri Muncie
DESCRIPTION:2023 Cal Tri Muncie - 6.18.23. Prairie Creek Park\, one of the oldest triathlon venues in the world\, has been the site of triathlon competition since 1980. Our race begins with a swim in Prairie Creek Reservoir\, a bike ride on the roads of bucolic Delaware County and finishes with a rolling run along the south side of Prairie Creek Reservoir. \n14 EVENT OPTIONS. 7 Olympic distance events (Triathlon\, Triathlon Relay\, RunBikeRun\, SwimBike\, SwimRun\, 1640 Yard Swim & 10K Run) and 7 Sprint distance events (Triathlon\, Triathlon Relay\, RunBikeRun\, SwimBike\, SwimRun\, 400 yard Swim & 5K Run). Triathlon = swim + bike + run. Triathlon Relay is 2 or 3 athletes combined to complete the triathlon. Typically\, the swim and run distances are standard but the bike distance varies from race to race. Check out the course maps for more detailed information. \nTO DO.  \nAIRPORT. Fort Wayne (FWA) \nAIR TEMPERATURE (AVG).  \nWATER TEMPERATURE (AVG).
URL:https://www.californiatriathlon.org/event/2023-cal-tri-muncie/
LOCATION:Prairie Creek Park\, 7801 S 560 E Rd\, Selma\, IN\, 47383\, United States
CATEGORIES:race
ATTACH;FMTTYPE=image/png:https://www.californiatriathlon.org/wp-content/uploads/2022/08/2023Muncie-2.png
END:VEVENT
END:VCALENDAR