BEGIN:VCALENDAR
VERSION:2.0
PRODID:-//California Triathlon - ECPv6.15.20//NONSGML v1.0//EN
CALSCALE:GREGORIAN
METHOD:PUBLISH
X-WR-CALNAME:California Triathlon
X-ORIGINAL-URL:https://www.californiatriathlon.org
X-WR-CALDESC:Events for California Triathlon
REFRESH-INTERVAL;VALUE=DURATION:PT1H
X-Robots-Tag:noindex
X-PUBLISHED-TTL:PT1H
BEGIN:VTIMEZONE
TZID:America/Los_Angeles
BEGIN:DAYLIGHT
TZOFFSETFROM:-0800
TZOFFSETTO:-0700
TZNAME:PDT
DTSTART:20200308T100000
END:DAYLIGHT
BEGIN:STANDARD
TZOFFSETFROM:-0700
TZOFFSETTO:-0800
TZNAME:PST
DTSTART:20201101T090000
END:STANDARD
BEGIN:DAYLIGHT
TZOFFSETFROM:-0800
TZOFFSETTO:-0700
TZNAME:PDT
DTSTART:20210314T100000
END:DAYLIGHT
BEGIN:STANDARD
TZOFFSETFROM:-0700
TZOFFSETTO:-0800
TZNAME:PST
DTSTART:20211107T090000
END:STANDARD
BEGIN:DAYLIGHT
TZOFFSETFROM:-0800
TZOFFSETTO:-0700
TZNAME:PDT
DTSTART:20220313T100000
END:DAYLIGHT
BEGIN:STANDARD
TZOFFSETFROM:-0700
TZOFFSETTO:-0800
TZNAME:PST
DTSTART:20221106T090000
END:STANDARD
BEGIN:DAYLIGHT
TZOFFSETFROM:-0800
TZOFFSETTO:-0700
TZNAME:PDT
DTSTART:20230312T100000
END:DAYLIGHT
BEGIN:STANDARD
TZOFFSETFROM:-0700
TZOFFSETTO:-0800
TZNAME:PST
DTSTART:20231105T090000
END:STANDARD
BEGIN:DAYLIGHT
TZOFFSETFROM:-0800
TZOFFSETTO:-0700
TZNAME:PDT
DTSTART:20240310T100000
END:DAYLIGHT
BEGIN:STANDARD
TZOFFSETFROM:-0700
TZOFFSETTO:-0800
TZNAME:PST
DTSTART:20241103T090000
END:STANDARD
BEGIN:DAYLIGHT
TZOFFSETFROM:-0800
TZOFFSETTO:-0700
TZNAME:PDT
DTSTART:20250309T100000
END:DAYLIGHT
BEGIN:STANDARD
TZOFFSETFROM:-0700
TZOFFSETTO:-0800
TZNAME:PST
DTSTART:20251102T090000
END:STANDARD
BEGIN:DAYLIGHT
TZOFFSETFROM:-0800
TZOFFSETTO:-0700
TZNAME:PDT
DTSTART:20260308T100000
END:DAYLIGHT
BEGIN:STANDARD
TZOFFSETFROM:-0700
TZOFFSETTO:-0800
TZNAME:PST
DTSTART:20261101T090000
END:STANDARD
BEGIN:DAYLIGHT
TZOFFSETFROM:-0800
TZOFFSETTO:-0700
TZNAME:PDT
DTSTART:20270314T100000
END:DAYLIGHT
BEGIN:STANDARD
TZOFFSETFROM:-0700
TZOFFSETTO:-0800
TZNAME:PST
DTSTART:20271107T090000
END:STANDARD
END:VTIMEZONE
BEGIN:VEVENT
DTSTART;TZID=America/Los_Angeles:20260412T080000
DTEND;TZID=America/Los_Angeles:20260412T123000
DTSTAMP:20260423T135313
CREATED:20210520T034546Z
LAST-MODIFIED:20260326T033732Z
UID:10000057-1775980800-1775997000@www.californiatriathlon.org
SUMMARY:2026 Cal Tri Lake Perris
DESCRIPTION:Register Now\n  \n2026 CAL TRI LAKE PERRIS - 4.12.26. This race is enclosed within an 8\,200-acre rugged playground close to several major population centers including Anaheim (55 miles)\, LA (70 miles) and San Diego (90 miles). \n18 EVENT OPTIONS. 6 Olympic distance events (Triathlon\, RunBikeRun\, SwimBike\, SwimRun\, 1640 Yard Swim & 10K Run)\, 6 Sprint distance events (Triathlon\, RunBikeRun\, SwimBike\, SwimRun\, 400 yard Swim & 5K Run) and 6 Youth Sprint distance events (Triathlon\, RunBikeRun\, SwimBike\, SwimRun\, 400 yard Swim & 5K Run). Triathlon = swim + bike + run. Typically\, the swim and run distances are standard but the bike distance varies from race to race. Check out the course maps for more detailed information. \nTO DO. Lake Perris. Mission Inn Museum. March Field Air Museum. \nAIRPORT. Ontario (ONT) \n  \nRegister Now
URL:https://www.californiatriathlon.org/event/2026-cal-tri-lake-perris/
LOCATION:Lake Perris State Recreation Area – Lot 9\, 17801 Lake Perris Dr\, Perris\, CA\, 92571\, United States
CATEGORIES:race
ATTACH;FMTTYPE=image/png:https://www.californiatriathlon.org/wp-content/uploads/2021/05/2026LakePerris-1.png
END:VEVENT
BEGIN:VEVENT
DTSTART;TZID=America/Los_Angeles:20211017T080000
DTEND;TZID=America/Los_Angeles:20211017T130000
DTSTAMP:20260423T135313
CREATED:20210516T001050Z
LAST-MODIFIED:20210829T191643Z
UID:10000053-1634457600-1634475600@www.californiatriathlon.org
SUMMARY:2021 Cal Tri Lake Perris - Fall Edition
DESCRIPTION:2021 CAL TRI LAKE PERRIS - 10.17.21. This race is enclosed within an 8\,200-acre rugged playground close to several major population centers including Anaheim (55 miles)\, LA (70 miles) and San Diego (90 miles). \n14 EVENT OPTIONS. 7 Olympic distance events (Triathlon\, Triathlon Relay\, RunBikeRun\, SwimBike\, SwimRun\, 1640 Yard Swim & 10K Run) and 7 Sprint distance events (Triathlon\, Triathlon Relay\, RunBikeRun\, SwimBike\, SwimRun\, 400 yard Swim & 5K Run). Triathlon = swim + bike + run. Triathlon Relay is 2 or 3 athletes combined to complete the triathlon. Typically\, the swim and run distances are standard but the bike distance varies from race to race. Check out the course maps for more detailed information. \nTO DO. Lake Perris. Mission Inn Museum. March Field Air Museum. \nAIRPORT. Ontario (ONT)
URL:https://www.californiatriathlon.org/event/2021-cal-tri-lake-perris-fall-edition/
LOCATION:Lake Perris State Recreation Area – Lot 9\, 17801 Lake Perris Dr\, Perris\, CA\, 92571\, United States
ATTACH;FMTTYPE=image/jpeg:https://www.californiatriathlon.org/wp-content/uploads/2021/05/LakePerris-Fall.jpg
END:VEVENT
BEGIN:VEVENT
DTSTART;TZID=America/Los_Angeles:20210509T080000
DTEND;TZID=America/Los_Angeles:20210509T130000
DTSTAMP:20260423T135313
CREATED:20201016T160506Z
LAST-MODIFIED:20210516T000202Z
UID:10000044-1620547200-1620565200@www.californiatriathlon.org
SUMMARY:2021 Cal Tri Lake Perris
DESCRIPTION:Cal Tri Events is pleased to announce the addition of 2021 Cal Tri Lake Perris to the recent national expansion \n 2021 CAL TRI LAKE PERRIS - 5.9.21 is located 11 miles south of Riverside off Highway 60 within proximity to several major population centers including Anaheim (55 miles) and LA (70 miles) to the west and San Diego (90 miles) to the south.  Visitors to the 8\,200-acre Lake Perris State Recreation Area (SRA) can enjoy an abundance of recreational activities\, including hiking\, bicycling\, fishing\, swimming\, picnicking\, camping\, rock climbing\, horseback riding\, and visiting the Ya’i Heki’ Regional Indian Museum.  It is one of the most popular recreation lakes along the State Water Project. \nRACE COURSE.  Athletes will swim in the same waters that will be used as part of the 2028 LA Olympics canoe and rowing competition.  The sprint course is a 400-yard swim\, a hilly\, 16.3-mile bike with 1000’ of elevation\, and 5K run.  The Olympic course is a 1\,640-yard swim\, a 24-mile bike with 1\,500’ of elevation\, and a 10K run that includes running on the Lake Perris Dam. \nRACE OPTIONS.  Olympic Distance (Triathlon\, Triathlon Relay\, SwimBike\, SwimRun\, 1640 Yard Swim & 10K Run) and Sprint Distance (Triathlon\, Triathlon Relay\, SwimBike\, SwimRun\, 400 yard Swim & 5K Run).  There is something for everyone! \nVolunteer One\, Get One (VOGO). Are you unable to race or maybe you have family or friends coming to the race to cheer you on?  Yes\, then please consider volunteering at the race. The days of volunteering for only a t-shirt and a bagel are over. VOGO is a great way to volunteer and earn a free race or earn community service hours. To volunteer at Cal Tri Lake Perris\, register here.
URL:https://www.californiatriathlon.org/event/2021-cal-tri-lake-perris/
LOCATION:Lake Perris State Recreation Area – Lot 9\, 17801 Lake Perris Dr\, Perris\, CA\, 92571\, United States
CATEGORIES:race
ATTACH;FMTTYPE=image/jpeg:https://www.californiatriathlon.org/wp-content/uploads/2020/10/CalTriLakePerris.jpg
END:VEVENT
END:VCALENDAR