BEGIN:VCALENDAR
VERSION:2.0
PRODID:-//California Triathlon - ECPv6.15.20//NONSGML v1.0//EN
CALSCALE:GREGORIAN
METHOD:PUBLISH
X-ORIGINAL-URL:https://www.californiatriathlon.org
X-WR-CALDESC:Events for California Triathlon
REFRESH-INTERVAL;VALUE=DURATION:PT1H
X-Robots-Tag:noindex
X-PUBLISHED-TTL:PT1H
BEGIN:VTIMEZONE
TZID:America/New_York
BEGIN:DAYLIGHT
TZOFFSETFROM:-0500
TZOFFSETTO:-0400
TZNAME:EDT
DTSTART:20250309T070000
END:DAYLIGHT
BEGIN:STANDARD
TZOFFSETFROM:-0400
TZOFFSETTO:-0500
TZNAME:EST
DTSTART:20251102T060000
END:STANDARD
BEGIN:DAYLIGHT
TZOFFSETFROM:-0500
TZOFFSETTO:-0400
TZNAME:EDT
DTSTART:20260308T070000
END:DAYLIGHT
BEGIN:STANDARD
TZOFFSETFROM:-0400
TZOFFSETTO:-0500
TZNAME:EST
DTSTART:20261101T060000
END:STANDARD
BEGIN:DAYLIGHT
TZOFFSETFROM:-0500
TZOFFSETTO:-0400
TZNAME:EDT
DTSTART:20270314T070000
END:DAYLIGHT
BEGIN:STANDARD
TZOFFSETFROM:-0400
TZOFFSETTO:-0500
TZNAME:EST
DTSTART:20271107T060000
END:STANDARD
END:VTIMEZONE
BEGIN:VEVENT
DTSTART;TZID=America/New_York:20260419T080000
DTEND;TZID=America/New_York:20260419T123000
DTSTAMP:20260423T105339
CREATED:20211005T041448Z
LAST-MODIFIED:20260326T033757Z
UID:10000070-1776585600-1776601800@www.californiatriathlon.org
SUMMARY:2026 Cal Tri Charlotte
DESCRIPTION:Register Now\n  \n2026 Cal Tri Charlotte - 4.19.26. Get your motor running to Lake Norman State Park in North Carolina just 38 miles north of Charlotte. \n18 EVENT OPTIONS. 6 Olympic distance events (Triathlon\, RunBikeRun\, SwimBike\, SwimRun\, 1640 Yard Swim & 10K Run)\, 6 Sprint distance events (Triathlon\, RunBikeRun\, SwimBike\, SwimRun\, 400 yard Swim & 5K Run) and 6 Youth Sprint distance events (Triathlon\, RunBikeRun\, SwimBike\, SwimRun\, 400 yard Swim & 5K Run). Triathlon = swim + bike + run. Typically\, the swim and run distances are standard but the bike distance varies from race to race. Check out the course maps for more detailed information. \nTO DO. NASCAR Hall of Fame. Freedom Park. Discovery Place Science. \nAIRPORT. Charlotte Douglas (CLT) \n  \nRegister Now
URL:https://www.californiatriathlon.org/event/2026-cal-tri-charlotte/
LOCATION:Lake Norman Picnic Ground\, 1408 State Park Rd\, Statesville\, NC\, 28677\, United States
CATEGORIES:race
ATTACH;FMTTYPE=image/png:https://www.californiatriathlon.org/wp-content/uploads/2021/10/2026Charlotte.png
END:VEVENT
END:VCALENDAR