BEGIN:VCALENDAR
VERSION:2.0
PRODID:-//California Triathlon - ECPv6.15.20//NONSGML v1.0//EN
CALSCALE:GREGORIAN
METHOD:PUBLISH
X-WR-CALNAME:California Triathlon
X-ORIGINAL-URL:https://www.californiatriathlon.org
X-WR-CALDESC:Events for California Triathlon
REFRESH-INTERVAL;VALUE=DURATION:PT1H
X-Robots-Tag:noindex
X-PUBLISHED-TTL:PT1H
BEGIN:VTIMEZONE
TZID:America/Los_Angeles
BEGIN:DAYLIGHT
TZOFFSETFROM:-0800
TZOFFSETTO:-0700
TZNAME:PDT
DTSTART:20200308T100000
END:DAYLIGHT
BEGIN:STANDARD
TZOFFSETFROM:-0700
TZOFFSETTO:-0800
TZNAME:PST
DTSTART:20201101T090000
END:STANDARD
BEGIN:DAYLIGHT
TZOFFSETFROM:-0800
TZOFFSETTO:-0700
TZNAME:PDT
DTSTART:20210314T100000
END:DAYLIGHT
BEGIN:STANDARD
TZOFFSETFROM:-0700
TZOFFSETTO:-0800
TZNAME:PST
DTSTART:20211107T090000
END:STANDARD
BEGIN:DAYLIGHT
TZOFFSETFROM:-0800
TZOFFSETTO:-0700
TZNAME:PDT
DTSTART:20220313T100000
END:DAYLIGHT
BEGIN:STANDARD
TZOFFSETFROM:-0700
TZOFFSETTO:-0800
TZNAME:PST
DTSTART:20221106T090000
END:STANDARD
BEGIN:DAYLIGHT
TZOFFSETFROM:-0800
TZOFFSETTO:-0700
TZNAME:PDT
DTSTART:20230312T100000
END:DAYLIGHT
BEGIN:STANDARD
TZOFFSETFROM:-0700
TZOFFSETTO:-0800
TZNAME:PST
DTSTART:20231105T090000
END:STANDARD
BEGIN:DAYLIGHT
TZOFFSETFROM:-0800
TZOFFSETTO:-0700
TZNAME:PDT
DTSTART:20240310T100000
END:DAYLIGHT
BEGIN:STANDARD
TZOFFSETFROM:-0700
TZOFFSETTO:-0800
TZNAME:PST
DTSTART:20241103T090000
END:STANDARD
BEGIN:DAYLIGHT
TZOFFSETFROM:-0800
TZOFFSETTO:-0700
TZNAME:PDT
DTSTART:20250309T100000
END:DAYLIGHT
BEGIN:STANDARD
TZOFFSETFROM:-0700
TZOFFSETTO:-0800
TZNAME:PST
DTSTART:20251102T090000
END:STANDARD
END:VTIMEZONE
BEGIN:VEVENT
DTSTART;TZID=America/Los_Angeles:20240428T080000
DTEND;TZID=America/Los_Angeles:20240428T130000
DTSTAMP:20260423T124658
CREATED:20210520T032715Z
LAST-MODIFIED:20230515T224903Z
UID:10000056-1714291200-1714309200@www.californiatriathlon.org
SUMMARY:2024 Cal Tri Lake Monticello
DESCRIPTION:2024 CAL TRI LAKE MONTICELLO - 4.28.24. Lake Monticello is a 3\,500 acre gated community in central Virginia only 15 miles from Charlottesville. \n14 EVENT OPTIONS. 7 Olympic distance events (Triathlon\, Triathlon Relay\, RunBikeRun\, SwimBike\, SwimRun\, 1640 Yard Swim & 10K Run) and 7 Sprint distance events (Triathlon\, Triathlon Relay\, RunBikeRun\, SwimBike\, SwimRun\, 400 yard Swim & 5K Run). Triathlon = swim + bike + run. Triathlon Relay is 2 or 3 athletes combined to complete the triathlon. Typically\, the swim and run distances are standard but the bike distance varies from race to race. Check out the course maps for more detailed information. \nTO DO. Monticello. Fralin Museum of Art. Wineries. \nAIRPORT. Charlottesville–Albemarle (CHO)
URL:https://www.californiatriathlon.org/event/2024-cal-tri-lake-monticello/
LOCATION:Lake Monticello Club House\, 41 Ashlawn Boulevard\, Charlottesville\, VA\, 22963\, United States
CATEGORIES:race
ATTACH;FMTTYPE=image/png:https://www.californiatriathlon.org/wp-content/uploads/2021/05/2024LakeMonticello.png
END:VEVENT
BEGIN:VEVENT
DTSTART;TZID=America/Los_Angeles:20220918T080000
DTEND;TZID=America/Los_Angeles:20220918T120000
DTSTAMP:20260423T124658
CREATED:20210828T232557Z
LAST-MODIFIED:20220810T205219Z
UID:10000064-1663488000-1663502400@www.californiatriathlon.org
SUMMARY:2022 Cal Tri Lake Monticello Half Marathon
DESCRIPTION:2022 Cal Tri Lake Monticello Half Marathon - 9.18.22 is located in central Virginia only 15 miles from Charlottesville where athletes and supporters will get the opportunity to appreciate the virtually unlimited list of things to do in the heart of historic Virginia including visiting Monticello\, UVa\, the Carter Mountain Orchard\, James Monroe’s Highland or the many local wineries. \nRACE COURSE.  Lake Monticello\, a 3\,500 acre gated community in central Virginia\, is the home base for our race. Our Half-Marathon athletes will enjoy a looped run around Lake Monticello\, while our 5K athletes will race an out and back along the same route.
URL:https://www.californiatriathlon.org/event/2022-cal-tri-lake-monticello-half-marathon/
LOCATION:Lake Monticello Club House\, 41 Ashlawn Boulevard\, Charlottesville\, VA\, 22963\, United States
CATEGORIES:race
ATTACH;FMTTYPE=image/jpeg:https://www.californiatriathlon.org/wp-content/uploads/2021/08/2022LakeMonticelloHalf.jpg
END:VEVENT
BEGIN:VEVENT
DTSTART;TZID=America/Los_Angeles:20210502T080000
DTEND;TZID=America/Los_Angeles:20210502T150000
DTSTAMP:20260423T124658
CREATED:20201016T160231Z
LAST-MODIFIED:20210210T033042Z
UID:10000043-1619942400-1619967600@www.californiatriathlon.org
SUMMARY:2021 Cal Tri Lake Monticello
DESCRIPTION:2021 CAL TRI LAKE MONTICELLO - 5.2.21 is located in central Virginia only 15 miles from Charlottesville where athletes and supporters will get the opportunity to appreciate the virtually unlimited list of things to do in the heart of historic Virginia including visiting Monticello\, UVa\, the Carter Mountain Orchard\, James Monroe’s Highland or the many local wineries. \nRACE COURSE.  Lake Monticello\, a 3\,500 acre gated community in central Virginia\, is home base for our race.   Athletes will enjoy a 352-acre lake swim\, a bucolic bike ride through Abermarle County and a well supported run through the tree-lined community of Lake Monticello. \nRACE OPTIONS.  70.3 Mile Distance (Triathlon\, SwimBike\, SwimRun & Swim)\, Olympic Distance (Triathlon\, Triathlon Relay\, SwimBike\, SwimRun\, 1640 Yard Swim & 10K Run) and Sprint Distance (Triathlon\, Triathlon Relay\, Swim Bike\, SwimRun\, 400 yard Swim & 5K Run).  There is something for everyone! \nVolunteer One\, Get One (VOGO). Are you unable to race or maybe you have family or friends coming to the race to cheer you on?  Yes\, then please consider volunteering at the race. The days of volunteering for only a t-shirt and a bagel are over. VOGO is a great way to volunteer and earn a free race or earn community service hours. To volunteer at Cal Tri Lake Monticello\, register here.
URL:https://www.californiatriathlon.org/event/2021-cal-tri-lake-monticello/
LOCATION:Lake Monticello Club House\, 41 Ashlawn Boulevard\, Charlottesville\, VA\, 22963\, United States
CATEGORIES:race
ATTACH;FMTTYPE=image/jpeg:https://www.californiatriathlon.org/wp-content/uploads/2020/10/CalTriLakeMonticello.jpg
END:VEVENT
END:VCALENDAR