BEGIN:VCALENDAR
VERSION:2.0
PRODID:-//California Triathlon - ECPv6.15.20//NONSGML v1.0//EN
CALSCALE:GREGORIAN
METHOD:PUBLISH
X-ORIGINAL-URL:https://www.californiatriathlon.org
X-WR-CALDESC:Events for California Triathlon
REFRESH-INTERVAL;VALUE=DURATION:PT1H
X-Robots-Tag:noindex
X-PUBLISHED-TTL:PT1H
BEGIN:VTIMEZONE
TZID:America/Los_Angeles
BEGIN:DAYLIGHT
TZOFFSETFROM:-0800
TZOFFSETTO:-0700
TZNAME:PDT
DTSTART:20200308T100000
END:DAYLIGHT
BEGIN:STANDARD
TZOFFSETFROM:-0700
TZOFFSETTO:-0800
TZNAME:PST
DTSTART:20201101T090000
END:STANDARD
BEGIN:DAYLIGHT
TZOFFSETFROM:-0800
TZOFFSETTO:-0700
TZNAME:PDT
DTSTART:20210314T100000
END:DAYLIGHT
BEGIN:STANDARD
TZOFFSETFROM:-0700
TZOFFSETTO:-0800
TZNAME:PST
DTSTART:20211107T090000
END:STANDARD
BEGIN:DAYLIGHT
TZOFFSETFROM:-0800
TZOFFSETTO:-0700
TZNAME:PDT
DTSTART:20220313T100000
END:DAYLIGHT
BEGIN:STANDARD
TZOFFSETFROM:-0700
TZOFFSETTO:-0800
TZNAME:PST
DTSTART:20221106T090000
END:STANDARD
END:VTIMEZONE
BEGIN:VEVENT
DTSTART;TZID=America/Los_Angeles:20210418T070000
DTEND;TZID=America/Los_Angeles:20210418T120000
DTSTAMP:20260423T135308
CREATED:20201016T145422Z
LAST-MODIFIED:20210210T033156Z
UID:10000041-1618729200-1618747200@www.californiatriathlon.org
SUMMARY:2021 Cal Tri Fort Worth
DESCRIPTION:Cal Tri Events is pleased to announce the addition of 2021 Cal Tri Fort Worth - 4.18.21 to the recent national expansion. \n2021 CAL TRI FORT WORTH - 4.18.21 is the right place to enjoy some Texas hospitality as well as a dozen remarkable districts full of culture and fun.  The historic western Stockyards feature the world’s only twice-daily cattle drive\, a connected downtown with the 35-block Sundance Square district and the park-filled Cultural District with the Kimbell Art Museum and four other museums\, the Botanic Garden and nearby Fort Worth Zoo\, ranked top 5 in the nation. \nRACE COURSE.  The 250 acre Marine Creek Lake serves as race headquarters.  Sprint athletes swim 400 yards in Marine Creek Lake followed by a 12.5 mile rolling bike course capped off with a 5K that edges the lake.  Olympic athletes swim 1640 yards followed by a 2 loop rolling bike course and ending with a 10K scenic loop around the lake. \nRACE OPTIONS.  Olympic Distance (Triathlon\, Triathlon Relay\, SwimBike\, SwimRun\, 1640 Yard Swim & 10K Run) and Sprint Distance (Triathlon\, Triathlon Relay\, Swim Bike\, SwimRun\, 400 yard Swim & 5K Run).  There is something for everyone! \nVolunteer One\, Get One (VOGO). Are you unable to race or maybe you have family or friends coming to the race to cheer you on?  Yes\, then please consider volunteering at the race. The days of volunteering for only a t-shirt and a bagel are over. VOGO is a great way to volunteer and earn a free race or earn community service hours. To volunteer at Cal Tri Fort Worth\, register here.
URL:https://www.californiatriathlon.org/event/2021-cal-tri-fort-worth/
LOCATION:Marine Creek Field\, 2596 Jim Wright Fwy\, Fort Worth\, TX\, 76179\, United States
CATEGORIES:race
ATTACH;FMTTYPE=image/jpeg:https://www.californiatriathlon.org/wp-content/uploads/2020/10/CalTriFortWorth.jpg
END:VEVENT
END:VCALENDAR