BEGIN:VCALENDAR
VERSION:2.0
PRODID:-//California Triathlon - ECPv6.15.20//NONSGML v1.0//EN
CALSCALE:GREGORIAN
METHOD:PUBLISH
X-ORIGINAL-URL:https://www.californiatriathlon.org
X-WR-CALDESC:Events for California Triathlon
REFRESH-INTERVAL;VALUE=DURATION:PT1H
X-Robots-Tag:noindex
X-PUBLISHED-TTL:PT1H
BEGIN:VTIMEZONE
TZID:America/Los_Angeles
BEGIN:DAYLIGHT
TZOFFSETFROM:-0800
TZOFFSETTO:-0700
TZNAME:PDT
DTSTART:20200308T100000
END:DAYLIGHT
BEGIN:STANDARD
TZOFFSETFROM:-0700
TZOFFSETTO:-0800
TZNAME:PST
DTSTART:20201101T090000
END:STANDARD
BEGIN:DAYLIGHT
TZOFFSETFROM:-0800
TZOFFSETTO:-0700
TZNAME:PDT
DTSTART:20210314T100000
END:DAYLIGHT
BEGIN:STANDARD
TZOFFSETFROM:-0700
TZOFFSETTO:-0800
TZNAME:PST
DTSTART:20211107T090000
END:STANDARD
BEGIN:DAYLIGHT
TZOFFSETFROM:-0800
TZOFFSETTO:-0700
TZNAME:PDT
DTSTART:20220313T100000
END:DAYLIGHT
BEGIN:STANDARD
TZOFFSETFROM:-0700
TZOFFSETTO:-0800
TZNAME:PST
DTSTART:20221106T090000
END:STANDARD
END:VTIMEZONE
BEGIN:VEVENT
DTSTART;TZID=America/Los_Angeles:20211003T070000
DTEND;TZID=America/Los_Angeles:20211003T120000
DTSTAMP:20260423T095411
CREATED:20201016T162605Z
LAST-MODIFIED:20210829T191559Z
UID:10000050-1633244400-1633262400@www.californiatriathlon.org
SUMMARY:2021 Cal Tri LA
DESCRIPTION:2021 Cal Tri LA - 10.3.21. Athletes will be charmed by the small-town feel of the Playa Del Rey beach community located south of Venice Beach and north of Manhattan Beach. \n14 EVENT OPTIONS. 7 Olympic distance events (Triathlon\, Triathlon Relay\, RunBikeRun\, SwimBike\, SwimRun\, 1640 Yard Swim & 10K Run) and 7 Sprint distance events (Triathlon\, Triathlon Relay\, RunBikeRun\, SwimBike\, SwimRun\, 400 yard Swim & 5K Run). Triathlon = swim + bike + run. Triathlon Relay is 2 or 3 athletes combined to complete the triathlon. Typically\, the swim and run distances are standard but the bike distance varies from race to race. Check out the course maps for more detailed information. \nTO DO. The Getty Center\, Venice Canals Walkway\, Skirball Cultural Center. \nAIRPORT. Los Angeles (LAX)
URL:https://www.californiatriathlon.org/event/2021-cal-tri-la/
LOCATION:Dockweiler State Beach\, 12501 Vista Del Mar\, Playa Del Rey\, CA\, 90293\, United States
CATEGORIES:race
ATTACH;FMTTYPE=image/jpeg:https://www.californiatriathlon.org/wp-content/uploads/2020/10/LA2021.jpg
END:VEVENT
END:VCALENDAR