BEGIN:VCALENDAR
VERSION:2.0
PRODID:-//California Triathlon - ECPv6.15.20//NONSGML v1.0//EN
CALSCALE:GREGORIAN
METHOD:PUBLISH
X-WR-CALNAME:California Triathlon
X-ORIGINAL-URL:https://www.californiatriathlon.org
X-WR-CALDESC:Events for California Triathlon
REFRESH-INTERVAL;VALUE=DURATION:PT1H
X-Robots-Tag:noindex
X-PUBLISHED-TTL:PT1H
BEGIN:VTIMEZONE
TZID:America/Los_Angeles
BEGIN:DAYLIGHT
TZOFFSETFROM:-0800
TZOFFSETTO:-0700
TZNAME:PDT
DTSTART:20220313T100000
END:DAYLIGHT
BEGIN:STANDARD
TZOFFSETFROM:-0700
TZOFFSETTO:-0800
TZNAME:PST
DTSTART:20221106T090000
END:STANDARD
BEGIN:DAYLIGHT
TZOFFSETFROM:-0800
TZOFFSETTO:-0700
TZNAME:PDT
DTSTART:20230312T100000
END:DAYLIGHT
BEGIN:STANDARD
TZOFFSETFROM:-0700
TZOFFSETTO:-0800
TZNAME:PST
DTSTART:20231105T090000
END:STANDARD
BEGIN:DAYLIGHT
TZOFFSETFROM:-0800
TZOFFSETTO:-0700
TZNAME:PDT
DTSTART:20240310T100000
END:DAYLIGHT
BEGIN:STANDARD
TZOFFSETFROM:-0700
TZOFFSETTO:-0800
TZNAME:PST
DTSTART:20241103T090000
END:STANDARD
END:VTIMEZONE
BEGIN:VEVENT
DTSTART;TZID=America/Los_Angeles:20230813T080000
DTEND;TZID=America/Los_Angeles:20230813T130000
DTSTAMP:20260423T123314
CREATED:20210606T031518Z
LAST-MODIFIED:20221228T145433Z
UID:10000059-1691913600-1691931600@www.californiatriathlon.org
SUMMARY:2023 Cal Tri Columbus
DESCRIPTION:2023 Cal Tri Columbus - 8.13.23. Just 30 miles south of Columbus\, Deer Creek State Park is central to Ohio and the crown jewel of Cal Tri Events Midwest races. \n14 EVENT OPTIONS. 7 Olympic distance events (Triathlon\, Triathlon Relay\, RunBikeRun\, SwimBike\, SwimRun\, 1640 Yard Swim & 10K Run) and 7 Sprint distance events (Triathlon\, Triathlon Relay\, RunBikeRun\, SwimBike\, SwimRun\, 400 yard Swim & 5K Run). Triathlon = swim + bike + run. Triathlon Relay is 2 or 3 athletes combined to complete the triathlon. Typically\, the swim and run distances are standard but the bike distance varies from race to race. Check out the course maps for more detailed information. \nTO DO. Franklin Park Conservatory and Botanical Gardens. COSI. German Village. \nAIRPORT. John Glenn Columbus (CMH)
URL:https://www.californiatriathlon.org/event/cal-tri-columbus/
LOCATION:Deer Creek State Park Beach\, Perry Township\, OH\, 43143\, United States
CATEGORIES:race
ATTACH;FMTTYPE=image/png:https://www.californiatriathlon.org/wp-content/uploads/2021/06/2023Columbus.png
END:VEVENT
END:VCALENDAR