BEGIN:VCALENDAR
VERSION:2.0
PRODID:-//California Triathlon - ECPv6.15.20//NONSGML v1.0//EN
CALSCALE:GREGORIAN
METHOD:PUBLISH
X-WR-CALNAME:California Triathlon
X-ORIGINAL-URL:https://www.californiatriathlon.org
X-WR-CALDESC:Events for California Triathlon
REFRESH-INTERVAL;VALUE=DURATION:PT1H
X-Robots-Tag:noindex
X-PUBLISHED-TTL:PT1H
BEGIN:VTIMEZONE
TZID:America/Los_Angeles
BEGIN:DAYLIGHT
TZOFFSETFROM:-0800
TZOFFSETTO:-0700
TZNAME:PDT
DTSTART:20200308T100000
END:DAYLIGHT
BEGIN:STANDARD
TZOFFSETFROM:-0700
TZOFFSETTO:-0800
TZNAME:PST
DTSTART:20201101T090000
END:STANDARD
BEGIN:DAYLIGHT
TZOFFSETFROM:-0800
TZOFFSETTO:-0700
TZNAME:PDT
DTSTART:20210314T100000
END:DAYLIGHT
BEGIN:STANDARD
TZOFFSETFROM:-0700
TZOFFSETTO:-0800
TZNAME:PST
DTSTART:20211107T090000
END:STANDARD
BEGIN:DAYLIGHT
TZOFFSETFROM:-0800
TZOFFSETTO:-0700
TZNAME:PDT
DTSTART:20220313T100000
END:DAYLIGHT
BEGIN:STANDARD
TZOFFSETFROM:-0700
TZOFFSETTO:-0800
TZNAME:PST
DTSTART:20221106T090000
END:STANDARD
END:VTIMEZONE
BEGIN:VEVENT
DTSTART;TZID=America/Los_Angeles:20210116T140000
DTEND;TZID=America/Los_Angeles:20210116T150000
DTSTAMP:20260423T143611
CREATED:20210112T152548Z
LAST-MODIFIED:20250725T152323Z
UID:10000052-1610805600-1610809200@www.californiatriathlon.org
SUMMARY:2021 Kickoff Meeting - Get Race Ready
DESCRIPTION:Start your 2021 right by getting race ready with Cal Tri helping plan your “A” race.\n\nSetting Your Long Term & 1 Year Goals\nSelecting The Best Race & Event\nFinding The Right Training Plan\nSetting Your 2021 Baseline\nDo You Need A Coach?\nAvailable Help For 1st Timers\nSelecting The Right Gear\nAvoiding The Top 3 Mistakes\n\nThom Richmond\, Founder of California Triathlon & Cal Tri Events\, will be the guest speaker for the January meeting.\n\nMeeting Link (Google Hangouts Meeting): http://bit.ly/CalTriKickoff\n\nJoin the Facebook Event today!
URL:https://www.californiatriathlon.org/event/2021-kickoff-meeting-get-race-ready/
LOCATION:Online
CATEGORIES:clubevent
ATTACH;FMTTYPE=image/jpeg:https://www.californiatriathlon.org/wp-content/uploads/2021/01/caltrikickoffmeeting.jpg
ORGANIZER;CN="California Triathlon":MAILTO:kim@californiatriathlon.org
END:VEVENT
END:VCALENDAR