BEGIN:VCALENDAR
VERSION:2.0
PRODID:-//California Triathlon - ECPv6.15.20//NONSGML v1.0//EN
CALSCALE:GREGORIAN
METHOD:PUBLISH
X-ORIGINAL-URL:https://www.californiatriathlon.org
X-WR-CALDESC:Events for California Triathlon
REFRESH-INTERVAL;VALUE=DURATION:PT1H
X-Robots-Tag:noindex
X-PUBLISHED-TTL:PT1H
BEGIN:VTIMEZONE
TZID:America/New_York
BEGIN:DAYLIGHT
TZOFFSETFROM:-0500
TZOFFSETTO:-0400
TZNAME:EDT
DTSTART:20250309T070000
END:DAYLIGHT
BEGIN:STANDARD
TZOFFSETFROM:-0400
TZOFFSETTO:-0500
TZNAME:EST
DTSTART:20251102T060000
END:STANDARD
BEGIN:DAYLIGHT
TZOFFSETFROM:-0500
TZOFFSETTO:-0400
TZNAME:EDT
DTSTART:20260308T070000
END:DAYLIGHT
BEGIN:STANDARD
TZOFFSETFROM:-0400
TZOFFSETTO:-0500
TZNAME:EST
DTSTART:20261101T060000
END:STANDARD
BEGIN:DAYLIGHT
TZOFFSETFROM:-0500
TZOFFSETTO:-0400
TZNAME:EDT
DTSTART:20270314T070000
END:DAYLIGHT
BEGIN:STANDARD
TZOFFSETFROM:-0400
TZOFFSETTO:-0500
TZNAME:EST
DTSTART:20271107T060000
END:STANDARD
END:VTIMEZONE
BEGIN:VEVENT
DTSTART;TZID=America/New_York:20260426T080000
DTEND;TZID=America/New_York:20260426T123000
DTSTAMP:20260423T101734
CREATED:20220812T040007Z
LAST-MODIFIED:20260326T033824Z
UID:10000071-1777190400-1777206600@www.californiatriathlon.org
SUMMARY:2026 Cal Tri Culpeper
DESCRIPTION:Register Now\n  \n2026 Cal Tri Culpeper - 4.26.26. Culpeper’s Mountain Run Lake Park\, situated in north-central Virginia\, is located between D.C./NOVA (75 miles)\, Richmond (90 miles) and Charlottesville (45 miles). Bring the whole family for a relaxing race-cation. \n18 EVENT OPTIONS. 6 Olympic distance events (Triathlon\, RunBikeRun\, SwimBike\, SwimRun\, 1640 Yard Swim & 10K Run)\, 6 Sprint distance events (Triathlon\, RunBikeRun\, SwimBike\, SwimRun\, 400 yard Swim & 5K Run) and 6 Youth Sprint distance events (Triathlon\, RunBikeRun\, SwimBike\, SwimRun\, 400 yard Swim & 5K Run). Triathlon = swim + bike + run. Typically\, the swim and run distances are standard but the bike distance varies from race to race. Check out the course maps for more detailed information. \nTO DO.  Culpeper National Cemetery. Old House Vineyards. Museum Of Culpeper History. \nAIRPORT. Dulles International Airport \nAIR TEMPERATURE (AVG). 63 F / 82 F  \nWATER TEMPERATURE (AVG). 65 F. Wetsuit legal. \n  \nRegister Now
URL:https://www.californiatriathlon.org/event/2026-cal-tri-culpeper/
LOCATION:Mountain Run Lake Park\, 16283 J B Carpenter Jr Dr\, Culpeper\, VA\, 22701\, United States
CATEGORIES:race
ATTACH;FMTTYPE=image/png:https://www.californiatriathlon.org/wp-content/uploads/2021/05/2026Culpeper.png
END:VEVENT
END:VCALENDAR