BEGIN:VCALENDAR
VERSION:2.0
PRODID:-//California Triathlon - ECPv6.15.20//NONSGML v1.0//EN
CALSCALE:GREGORIAN
METHOD:PUBLISH
X-WR-CALNAME:California Triathlon
X-ORIGINAL-URL:https://www.californiatriathlon.org
X-WR-CALDESC:Events for California Triathlon
REFRESH-INTERVAL;VALUE=DURATION:PT1H
X-Robots-Tag:noindex
X-PUBLISHED-TTL:PT1H
BEGIN:VTIMEZONE
TZID:America/Los_Angeles
BEGIN:DAYLIGHT
TZOFFSETFROM:-0800
TZOFFSETTO:-0700
TZNAME:PDT
DTSTART:20250309T100000
END:DAYLIGHT
BEGIN:STANDARD
TZOFFSETFROM:-0700
TZOFFSETTO:-0800
TZNAME:PST
DTSTART:20251102T090000
END:STANDARD
BEGIN:DAYLIGHT
TZOFFSETFROM:-0800
TZOFFSETTO:-0700
TZNAME:PDT
DTSTART:20260308T100000
END:DAYLIGHT
BEGIN:STANDARD
TZOFFSETFROM:-0700
TZOFFSETTO:-0800
TZNAME:PST
DTSTART:20261101T090000
END:STANDARD
BEGIN:DAYLIGHT
TZOFFSETFROM:-0800
TZOFFSETTO:-0700
TZNAME:PDT
DTSTART:20270314T100000
END:DAYLIGHT
BEGIN:STANDARD
TZOFFSETFROM:-0700
TZOFFSETTO:-0800
TZNAME:PST
DTSTART:20271107T090000
END:STANDARD
END:VTIMEZONE
BEGIN:VTIMEZONE
TZID:America/Denver
BEGIN:DAYLIGHT
TZOFFSETFROM:-0700
TZOFFSETTO:-0600
TZNAME:MDT
DTSTART:20250309T090000
END:DAYLIGHT
BEGIN:STANDARD
TZOFFSETFROM:-0600
TZOFFSETTO:-0700
TZNAME:MST
DTSTART:20251102T080000
END:STANDARD
BEGIN:DAYLIGHT
TZOFFSETFROM:-0700
TZOFFSETTO:-0600
TZNAME:MDT
DTSTART:20260308T090000
END:DAYLIGHT
BEGIN:STANDARD
TZOFFSETFROM:-0600
TZOFFSETTO:-0700
TZNAME:MST
DTSTART:20261101T080000
END:STANDARD
BEGIN:DAYLIGHT
TZOFFSETFROM:-0700
TZOFFSETTO:-0600
TZNAME:MDT
DTSTART:20270314T090000
END:DAYLIGHT
BEGIN:STANDARD
TZOFFSETFROM:-0600
TZOFFSETTO:-0700
TZNAME:MST
DTSTART:20271107T080000
END:STANDARD
END:VTIMEZONE
BEGIN:VEVENT
DTSTART;TZID=America/Los_Angeles:20260913T070000
DTEND;TZID=America/Los_Angeles:20260913T100000
DTSTAMP:20260423T145208
CREATED:20260114T204813Z
LAST-MODIFIED:20260217T033830Z
UID:10000078-1789282800-1789293600@www.californiatriathlon.org
SUMMARY:2026 Cal Tri Houston
DESCRIPTION:New for 2026\, Cal Tri Houston offers athletes the chance to race! \n\n\n\n\n5 EVENT OPTIONS. 5 Sprint distance events (Reverse Triathlon\, RunBikeRun\, RunSwim\, 400 yard Swim & 5K Run). Reverse Triathlon = run + bike + swim. Typically\, the swim and run distances are standard but the bike distance varies from race to race.\nTO DO. Typhoon Texas\nAIRPORT. George Bush Intercontinental Airport (IAH)\nAIR TEMPERATURE (AVG).  70s/90s\nWATER TEMPERATURE (AVG). 
URL:https://www.californiatriathlon.org/event/2026-cal-tri-houston/
LOCATION:Typhoon Texas – Houston\, 555 Katy Fort Bend Rd\, Katy\, TX\, 77494\, United States
ATTACH;FMTTYPE=image/png:https://www.californiatriathlon.org/wp-content/uploads/2026/01/2026Houston.png
END:VEVENT
BEGIN:VEVENT
DTSTART;TZID=America/Denver:20260920T080000
DTEND;TZID=America/Denver:20260920T123000
DTSTAMP:20260423T145208
CREATED:20210520T031850Z
LAST-MODIFIED:20260326T034204Z
UID:10000055-1789891200-1789907400@www.californiatriathlon.org
SUMMARY:2026 Cal Tri Austin
DESCRIPTION:Register Now\n  \n2026 Cal Tri Austin - 9.20.26. Push it to the limit in the heart of Texas. \n18 EVENT OPTIONS. 6 Olympic distance events (Triathlon\, RunBikeRun\, SwimBike\, SwimRun\, 1640 Yard Swim & 10K Run)\, 6 Sprint distance events (Triathlon\, RunBikeRun\, SwimBike\, SwimRun\, 400 yard Swim & 5K Run) and 6 Youth Sprint distance events (Triathlon\, RunBikeRun\, SwimBike\, SwimRun\, 400 yard Swim & 5K Run). Triathlon = swim + bike + run. Typically\, the swim and run distances are standard but the bike distance varies from race to race. Check out the course maps for more detailed information. \nTO DO. Sixth Street. Austin City Limits. SoCo District. \nAIRPORT. Austin-Bergstrom (AUS) \n  \nRegister Now
URL:https://www.californiatriathlon.org/event/2026-cal-tri-austin-2/
LOCATION:Walter E. Long Metropolitan Park\, 6620 Blue Bluff Rd\, Austin\, TX\, 78724\, United States
CATEGORIES:race
ATTACH;FMTTYPE=image/png:https://www.californiatriathlon.org/wp-content/uploads/2021/05/2026Austin-2.png
END:VEVENT
BEGIN:VEVENT
DTSTART;TZID=America/Denver:20260927T080000
DTEND;TZID=America/Denver:20260927T123000
DTSTAMP:20260423T145208
CREATED:20210520T031327Z
LAST-MODIFIED:20260326T034229Z
UID:10000054-1790496000-1790512200@www.californiatriathlon.org
SUMMARY:2026 Cal Tri DFW
DESCRIPTION:Register Now\n  \n2026 CAL TRI DFW - 9.27.26. \n18 EVENT OPTIONS. 6 Olympic distance events (Triathlon\, RunBikeRun\, SwimBike\, SwimRun\, 1640 Yard Swim & 10K Run)\, 6 Sprint distance events (Triathlon\, RunBikeRun\, SwimBike\, SwimRun\, 400 yard Swim & 5K Run) and 6 Youth Sprint distance events (Triathlon\, RunBikeRun\, SwimBike\, SwimRun\, 400 yard Swim & 5K Run). Triathlon = swim + bike + run. Typically\, the swim and run distances are standard but the bike distance varies from race to race. Check out the course maps for more detailed information. \nTO DO. Fort Worth Stockyards. Kimbell Art Museum. Fort Worth Zoo. \nAIRPORT. Dallas/Fort Worth (DFW) \nRegister Now
URL:https://www.californiatriathlon.org/event/2026-cal-tri-dfw/
LOCATION:Ray Roberts Lake State Park – Johnson Branch\, 100 PW 4153\, Valley View\, TX\, 76272\, United States
CATEGORIES:race
ATTACH;FMTTYPE=image/png:https://www.californiatriathlon.org/wp-content/uploads/2021/05/2026DFW.png
GEO:33.41094;-97.047458
X-APPLE-STRUCTURED-LOCATION;VALUE=URI;X-ADDRESS=Ray Roberts Lake State Park – Johnson Branch 100 PW 4153 Valley View TX 76272 United States;X-APPLE-RADIUS=500;X-TITLE=100 PW 4153:geo:-97.047458,33.41094
END:VEVENT
END:VCALENDAR