BEGIN:VCALENDAR
VERSION:2.0
PRODID:-//California Triathlon - ECPv6.15.20//NONSGML v1.0//EN
CALSCALE:GREGORIAN
METHOD:PUBLISH
X-ORIGINAL-URL:https://www.californiatriathlon.org
X-WR-CALDESC:Events for California Triathlon
REFRESH-INTERVAL;VALUE=DURATION:PT1H
X-Robots-Tag:noindex
X-PUBLISHED-TTL:PT1H
BEGIN:VTIMEZONE
TZID:America/Los_Angeles
BEGIN:DAYLIGHT
TZOFFSETFROM:-0800
TZOFFSETTO:-0700
TZNAME:PDT
DTSTART:20250309T100000
END:DAYLIGHT
BEGIN:STANDARD
TZOFFSETFROM:-0700
TZOFFSETTO:-0800
TZNAME:PST
DTSTART:20251102T090000
END:STANDARD
BEGIN:DAYLIGHT
TZOFFSETFROM:-0800
TZOFFSETTO:-0700
TZNAME:PDT
DTSTART:20260308T100000
END:DAYLIGHT
BEGIN:STANDARD
TZOFFSETFROM:-0700
TZOFFSETTO:-0800
TZNAME:PST
DTSTART:20261101T090000
END:STANDARD
BEGIN:DAYLIGHT
TZOFFSETFROM:-0800
TZOFFSETTO:-0700
TZNAME:PDT
DTSTART:20270314T100000
END:DAYLIGHT
BEGIN:STANDARD
TZOFFSETFROM:-0700
TZOFFSETTO:-0800
TZNAME:PST
DTSTART:20271107T090000
END:STANDARD
END:VTIMEZONE
BEGIN:VEVENT
DTSTART;TZID=America/Los_Angeles:20261018T080000
DTEND;TZID=America/Los_Angeles:20261018T123000
DTSTAMP:20260423T095530
CREATED:20210829T223809Z
LAST-MODIFIED:20260326T034321Z
UID:10000066-1792310400-1792326600@www.californiatriathlon.org
SUMMARY:2026 Cal Tri LA
DESCRIPTION:Register Now\n  \n2026 Cal Tri LA - 10.18.26. Athletes will be charmed by the small-town feel of the Playa Del Rey beach community located south of Venice Beach and north of Manhattan Beach. \nIn SoCal\, the convenience\, safety and affordability of races like Cal Tri LA are few and far between. A quick Sunday morning drive to Playa del Rey\, parking next to the transition along Dockweiler Beach and speedy morning packet pick-up providing athletes the opportunity to spend the morning focused on getting race ready. Athletes aren’t the only ones busy race morning. A full cadre of lifeguards from LA Beaches & Harbors and LAPD Traffic Officers are getting ready to keep athletes safe in the water and on the roads. Hours earlier\, thousands of barricades\, signs and cones are deployed on the bike and run course per the traffic control plan. Financially\, the closer a venue is to a population center the higher the fee structure and producing a triathlon near LAX is no exception. However\, tales of skyrocketing municipality fees are greatly exaggerated and Cal Tri Events remains lean with this year and next year’s prices locked in at 2015 rates. \n18 EVENT OPTIONS. 6 Olympic distance events (Triathlon\, RunBikeRun\, SwimBike\, SwimRun\, 1640 Yard Swim & 10K Run)\, 6 Sprint distance events (Triathlon\, RunBikeRun\, SwimBike\, SwimRun\, 400 yard Swim & 5K Run) and 6 Youth Sprint distance events (Triathlon\, RunBikeRun\, SwimBike\, SwimRun\, 400 yard Swim & 5K Run). Triathlon = swim + bike + run. Typically\, the swim and run distances are standard but the bike distance varies from race to race. Check out the course maps for more detailed information. \nTO DO. The Getty Center\, Venice Canals Walkway\, Skirball Cultural Center. \nAIRPORT. Los Angeles (LAX) \nAIR TEMPERATURE (AVG). 55 F / 81 F \nWATER TEMPERATURE (AVG). 66 F. Wetsuit legal. \n  \nRegister Now
URL:https://www.californiatriathlon.org/event/2026-cal-tri-la/
LOCATION:Dockweiler State Beach\, 12501 Vista Del Mar\, Playa Del Rey\, CA\, 90293\, United States
ATTACH;FMTTYPE=image/png:https://www.californiatriathlon.org/wp-content/uploads/2021/08/2026LA.png
END:VEVENT
BEGIN:VEVENT
DTSTART;TZID=America/Los_Angeles:20261101T070000
DTEND;TZID=America/Los_Angeles:20261101T113000
DTSTAMP:20260423T095530
CREATED:20210829T223302Z
LAST-MODIFIED:20260326T034351Z
UID:10000065-1793516400-1793532600@www.californiatriathlon.org
SUMMARY:2026 Optimism Cal Tri Newport Dunes
DESCRIPTION:Register Now\n  \n2026 Optimism Cal Tri Newport Dunes - 11.1.26. Started in 1978 as the Human Race Triathlon\, Cal Tri Newport Dunes is the longest running triathlon in the world operating from the same location. Also started in 1978 was the Ironman World Championship Triathlon Oahu but it moved to Kailua-Kona\, Hawaii in 1981. This top U.S. race destination with Newport Beach serving as a backdrop features a protected harbor swim\, closed scenic bike course and ends with a run on the sand . \n12 EVENT OPTIONS. 6 Olympic distance events (Triathlon\, RunBikeRun\, SwimBike\, SwimRun\, 1640 Yard Swim & 10K Run) and 6 Sprint distance events (Triathlon\, RunBikeRun\, SwimBike\, SwimRun\, 400 yard Swim & 5K Run). Triathlon = swim + bike + run. Typically\, the swim and run distances are standard but the bike distance varies from race to race. Check out the course maps for more detailed information. \nTO DO. Disneyland Park & California Adventure Park. Balboa Island Ferry. Newport Beach. \nAIRPORT. John Wayne (SNA) \nAIR TEMPERATURE (AVG). 60 F / 73 F \nWATER TEMPERATURE (AVG). 65 F. Wetsuit legal. \n  \nRegister Now
URL:https://www.californiatriathlon.org/event/2026-cal-tri-newport-dunes/
LOCATION:Newport Dunes Waterfront Resort\, 1131 Back Bay Dr\, Newport Beach\, CA\, 92660\, United States
CATEGORIES:race
ATTACH;FMTTYPE=image/jpeg:https://www.californiatriathlon.org/wp-content/uploads/2021/08/optimismnewportdunes.jpg
END:VEVENT
END:VCALENDAR