BEGIN:VCALENDAR
VERSION:2.0
PRODID:-//California Triathlon - ECPv6.15.20//NONSGML v1.0//EN
CALSCALE:GREGORIAN
METHOD:PUBLISH
X-ORIGINAL-URL:https://www.californiatriathlon.org
X-WR-CALDESC:Events for California Triathlon
REFRESH-INTERVAL;VALUE=DURATION:PT1H
X-Robots-Tag:noindex
X-PUBLISHED-TTL:PT1H
BEGIN:VTIMEZONE
TZID:America/Los_Angeles
BEGIN:DAYLIGHT
TZOFFSETFROM:-0800
TZOFFSETTO:-0700
TZNAME:PDT
DTSTART:20250309T100000
END:DAYLIGHT
BEGIN:STANDARD
TZOFFSETFROM:-0700
TZOFFSETTO:-0800
TZNAME:PST
DTSTART:20251102T090000
END:STANDARD
BEGIN:DAYLIGHT
TZOFFSETFROM:-0800
TZOFFSETTO:-0700
TZNAME:PDT
DTSTART:20260308T100000
END:DAYLIGHT
BEGIN:STANDARD
TZOFFSETFROM:-0700
TZOFFSETTO:-0800
TZNAME:PST
DTSTART:20261101T090000
END:STANDARD
BEGIN:DAYLIGHT
TZOFFSETFROM:-0800
TZOFFSETTO:-0700
TZNAME:PDT
DTSTART:20270314T100000
END:DAYLIGHT
BEGIN:STANDARD
TZOFFSETFROM:-0700
TZOFFSETTO:-0800
TZNAME:PST
DTSTART:20271107T090000
END:STANDARD
END:VTIMEZONE
BEGIN:VEVENT
DTSTART;TZID=America/Los_Angeles:20260628T070000
DTEND;TZID=America/Los_Angeles:20260628T113000
DTSTAMP:20260423T140042
CREATED:20220904T033305Z
LAST-MODIFIED:20260326T034036Z
UID:10000073-1782630000-1782646200@www.californiatriathlon.org
SUMMARY:2026 Cal Tri La Crema
DESCRIPTION:Register Now\n  \n2026 Cal Tri La Crema - 6.28.26. Located in the middle of wine country\, triathlon returns to Johnson’s Beach & Windsor with short course versions of a classic long course race. \n7 EVENT OPTIONS. 3 Olympic distance events (Triathlon\, SwimBike and 1640 Yard Swim) and 4 Sprint distance events (Triathlon\, SwimBike\, 400 yard Swim & 5k Run). All events start at Johnson’s Beach with the exception of the 5K which starts and ends at La Crema Estate at Saralee’s Vineyard. Check out the course maps for more detailed information. \n  \n🚫 No Animals Allowed 🚫\nPlease note that animals (dogs\, cats\, etc.) are not permitted at Johnson’s Beach\, La Crema Estate\, or Windsor High School during any race activities. Thank you for helping us keep the venues safe and enjoyable for all participants! \n  \nTO DO. 425 wineries. \nAIRPORT. Charles M. Schulz–Sonoma County Airport (STS) \nAIR TEMPERATURE (AVG). \nWATER TEMPERATURE (AVG).  F. Wetsuit . \n  \nRegister Now
URL:https://www.californiatriathlon.org/event/2026-cal-tri-lacrema/
LOCATION:Johnson’s Beach\, 16215 First St\, Guerneville\, CA\, 95446\, United States
CATEGORIES:race
ATTACH;FMTTYPE=image/png:https://www.californiatriathlon.org/wp-content/uploads/2022/09/2026LaCrema.png
END:VEVENT
END:VCALENDAR