BEGIN:VCALENDAR
VERSION:2.0
PRODID:-//California Triathlon - ECPv6.15.20//NONSGML v1.0//EN
CALSCALE:GREGORIAN
METHOD:PUBLISH
X-WR-CALNAME:California Triathlon
X-ORIGINAL-URL:https://www.californiatriathlon.org
X-WR-CALDESC:Events for California Triathlon
REFRESH-INTERVAL;VALUE=DURATION:PT1H
X-Robots-Tag:noindex
X-PUBLISHED-TTL:PT1H
BEGIN:VTIMEZONE
TZID:America/Denver
BEGIN:DAYLIGHT
TZOFFSETFROM:-0700
TZOFFSETTO:-0600
TZNAME:MDT
DTSTART:20250309T090000
END:DAYLIGHT
BEGIN:STANDARD
TZOFFSETFROM:-0600
TZOFFSETTO:-0700
TZNAME:MST
DTSTART:20251102T080000
END:STANDARD
BEGIN:DAYLIGHT
TZOFFSETFROM:-0700
TZOFFSETTO:-0600
TZNAME:MDT
DTSTART:20260308T090000
END:DAYLIGHT
BEGIN:STANDARD
TZOFFSETFROM:-0600
TZOFFSETTO:-0700
TZNAME:MST
DTSTART:20261101T080000
END:STANDARD
BEGIN:DAYLIGHT
TZOFFSETFROM:-0700
TZOFFSETTO:-0600
TZNAME:MDT
DTSTART:20270314T090000
END:DAYLIGHT
BEGIN:STANDARD
TZOFFSETFROM:-0600
TZOFFSETTO:-0700
TZNAME:MST
DTSTART:20271107T080000
END:STANDARD
END:VTIMEZONE
BEGIN:VEVENT
DTSTART;TZID=America/Denver:20260329T080000
DTEND;TZID=America/Denver:20260329T123000
DTSTAMP:20260423T091857
CREATED:20250525T150311Z
LAST-MODIFIED:20260326T031638Z
UID:10000075-1774771200-1774787400@www.californiatriathlon.org
SUMMARY:2026 Cal Tri Austin
DESCRIPTION:Register Now\n  \n2026 Cal Tri Austin - 3.29.26. Push it to the limit in the heart of Texas. \n18 EVENT OPTIONS. 6 Olympic distance events (Triathlon\, RunBikeRun\, SwimBike\, SwimRun\, 1640 Yard Swim & 10K Run)\, 6 Sprint distance events (Triathlon\, RunBikeRun\, SwimBike\, SwimRun\, 400 yard Swim & 5K Run) and 6 Youth Sprint distance events (Triathlon\, RunBikeRun\, SwimBike\, SwimRun\, 400 yard Swim & 5K Run). Triathlon = swim + bike + run. Typically\, the swim and run distances are standard but the bike distance varies from race to race. Check out the course maps for more detailed information. \nTO DO. Sixth Street. Austin City Limits. SoCo District. \nAIRPORT. Austin-Bergstrom (AUS) \n  \nRegister Now
URL:https://www.californiatriathlon.org/event/2026-cal-tri-austin/
LOCATION:Walter E. Long Metropolitan Park\, 6620 Blue Bluff Rd\, Austin\, TX\, 78724\, United States
CATEGORIES:race
ATTACH;FMTTYPE=image/png:https://www.californiatriathlon.org/wp-content/uploads/2021/05/2026Austin.png
END:VEVENT
END:VCALENDAR