BEGIN:VCALENDAR
VERSION:2.0
PRODID:-//California Triathlon - ECPv6.15.20//NONSGML v1.0//EN
CALSCALE:GREGORIAN
METHOD:PUBLISH
X-WR-CALNAME:California Triathlon
X-ORIGINAL-URL:https://www.californiatriathlon.org
X-WR-CALDESC:Events for California Triathlon
REFRESH-INTERVAL;VALUE=DURATION:PT1H
X-Robots-Tag:noindex
X-PUBLISHED-TTL:PT1H
BEGIN:VTIMEZONE
TZID:America/Los_Angeles
BEGIN:DAYLIGHT
TZOFFSETFROM:-0800
TZOFFSETTO:-0700
TZNAME:PDT
DTSTART:20250309T100000
END:DAYLIGHT
BEGIN:STANDARD
TZOFFSETFROM:-0700
TZOFFSETTO:-0800
TZNAME:PST
DTSTART:20251102T090000
END:STANDARD
BEGIN:DAYLIGHT
TZOFFSETFROM:-0800
TZOFFSETTO:-0700
TZNAME:PDT
DTSTART:20260308T100000
END:DAYLIGHT
BEGIN:STANDARD
TZOFFSETFROM:-0700
TZOFFSETTO:-0800
TZNAME:PST
DTSTART:20261101T090000
END:STANDARD
BEGIN:DAYLIGHT
TZOFFSETFROM:-0800
TZOFFSETTO:-0700
TZNAME:PDT
DTSTART:20270314T100000
END:DAYLIGHT
BEGIN:STANDARD
TZOFFSETFROM:-0700
TZOFFSETTO:-0800
TZNAME:PST
DTSTART:20271107T090000
END:STANDARD
END:VTIMEZONE
BEGIN:VEVENT
DTSTART;TZID=America/Los_Angeles:20260913T070000
DTEND;TZID=America/Los_Angeles:20260913T100000
DTSTAMP:20260423T162117
CREATED:20260114T204813Z
LAST-MODIFIED:20260217T033830Z
UID:10000078-1789282800-1789293600@www.californiatriathlon.org
SUMMARY:2026 Cal Tri Houston
DESCRIPTION:New for 2026\, Cal Tri Houston offers athletes the chance to race! \n\n\n\n\n5 EVENT OPTIONS. 5 Sprint distance events (Reverse Triathlon\, RunBikeRun\, RunSwim\, 400 yard Swim & 5K Run). Reverse Triathlon = run + bike + swim. Typically\, the swim and run distances are standard but the bike distance varies from race to race.\nTO DO. Typhoon Texas\nAIRPORT. George Bush Intercontinental Airport (IAH)\nAIR TEMPERATURE (AVG).  70s/90s\nWATER TEMPERATURE (AVG). 
URL:https://www.californiatriathlon.org/event/2026-cal-tri-houston/
LOCATION:Typhoon Texas – Houston\, 555 Katy Fort Bend Rd\, Katy\, TX\, 77494\, United States
ATTACH;FMTTYPE=image/png:https://www.californiatriathlon.org/wp-content/uploads/2026/01/2026Houston.png
END:VEVENT
END:VCALENDAR